BEGIN:VCALENDAR
VERSION:2.0
CALSCALE:GREGORIAN
PRODID:-//https://www.bhsea.org.uk//BHSEA
METHOD:REQUEST
BEGIN:VTIMEZONE
TZID:Europe/London
LAST-MODIFIED:20201011T015911Z
TZURL:http://tzurl.org/zoneinfo-outlook/Europe/London
X-LIC-LOCATION:Europe/London
BEGIN:DAYLIGHT
TZNAME:BST
TZOFFSETFROM:+0000
TZOFFSETTO:+0100
DTSTART:19700329T010000
RRULE:FREQ=YEARLY;BYMONTH=3;BYDAY=-1SU
END:DAYLIGHT
BEGIN:STANDARD
TZNAME:GMT
TZOFFSETFROM:+0100
TZOFFSETTO:+0000
DTSTART:19701025T020000
RRULE:FREQ=YEARLY;BYMONTH=10;BYDAY=-1SU
END:STANDARD
END:VTIMEZONE
BEGIN:VEVENT
UID:dc3c4413399b40c25c2f5126a169a7ca@bhsea.org.uk
URL:https://www.bhsea.org.uk/events/safety-and-health-expo
SUMMARY:Safety and Health Expo
STATUS:CONFIRMED
DESCRIPTION:We&rsquo;re excited to be exhibiting at The Health &amp; Safety Event 2026, taking place from 28th to the 30th April at the NEC, Birmingham - one of the UK&rsquo;s leading gatherings for safety professionals, industry experts, and organisations committed to creating safer, healthier workplaces.
You&rsquo;ll find the BHSEA team on Stand 3/J91, where we&rsquo;ll be hosting a hands-on hazard-spotting challenge using our miniature construction site. It&rsquo;s a fun, interactive activity with a serious message at its core - the importance of observation, awareness, and attention to detail in effective risk management. Every participant will also be entered into a daily prize draw to win a bottle of Prosecco.
&nbsp;
DTSTAMP:20260420T120753
DTSTART:20260427T100000
DTEND:20260427T160000
ORGANIZER;CN='BHSEA':mailto:secretary@bhsea.org.uk
END:VEVENT
END:VCALENDAR