BEGIN:VCALENDAR
VERSION:2.0
CALSCALE:GREGORIAN
PRODID:-//https://www.bhsea.org.uk//BHSEA
METHOD:REQUEST
BEGIN:VTIMEZONE
TZID:Europe/London
LAST-MODIFIED:20201011T015911Z
TZURL:http://tzurl.org/zoneinfo-outlook/Europe/London
X-LIC-LOCATION:Europe/London
BEGIN:DAYLIGHT
TZNAME:BST
TZOFFSETFROM:+0000
TZOFFSETTO:+0100
DTSTART:19700329T010000
RRULE:FREQ=YEARLY;BYMONTH=3;BYDAY=-1SU
END:DAYLIGHT
BEGIN:STANDARD
TZNAME:GMT
TZOFFSETFROM:+0100
TZOFFSETTO:+0000
DTSTART:19701025T020000
RRULE:FREQ=YEARLY;BYMONTH=10;BYDAY=-1SU
END:STANDARD
END:VTIMEZONE
BEGIN:VEVENT
UID:14296933d1b8390883a8aaa53f41dde8@bhsea.org.uk
URL:https://www.bhsea.org.uk/events/thorlux-factory-visit
SUMMARY:Thorlux Factory Visit
LOCATION:Merse Road, Redditch, B98 9HH
STATUS:CONFIRMED
DESCRIPTION:We&rsquo;re delighted to invite members to join us on 8th June 2026 for an exclusive behind-the-scenes visit to Thorlux Lighting.
This will be a highly interactive and engaging day, with attendees rotating through five informative sessions. Each session is designed to educate, inform and surprise, giving us a real insight into innovation, sustainability and manufacturing excellence.
⚠️ Spaces are limited, so early booking is essential. A waiting list will be set up.
⚠️ If you are unable to attend for whatever reason please cancel your place or email secretary@bhsea.org.uk
🚗&nbsp;Please car share where possible.
🚆&nbsp;There is a train station nearby, and taxis are available for onward travel.
More details will be sent to confirmed attendees.
Wear safety footwear. Hi viz will be provided.
DTSTAMP:20260422T122613
DTSTART:20260608T093000
DTEND:20260608T150000
ORGANIZER;CN='BHSEA':mailto:secretary@bhsea.org.uk
END:VEVENT
END:VCALENDAR