BEGIN:VCALENDAR
VERSION:2.0
CALSCALE:GREGORIAN
PRODID:-//https://www.bhsea.org.uk//BHSEA
METHOD:REQUEST
BEGIN:VTIMEZONE
TZID:Europe/London
LAST-MODIFIED:20201011T015911Z
TZURL:http://tzurl.org/zoneinfo-outlook/Europe/London
X-LIC-LOCATION:Europe/London
BEGIN:DAYLIGHT
TZNAME:BST
TZOFFSETFROM:+0000
TZOFFSETTO:+0100
DTSTART:19700329T010000
RRULE:FREQ=YEARLY;BYMONTH=3;BYDAY=-1SU
END:DAYLIGHT
BEGIN:STANDARD
TZNAME:GMT
TZOFFSETFROM:+0100
TZOFFSETTO:+0000
DTSTART:19701025T020000
RRULE:FREQ=YEARLY;BYMONTH=10;BYDAY=-1SU
END:STANDARD
END:VTIMEZONE
BEGIN:VEVENT
UID:485668d4e41f81b01bee2cdc3b4c78d4@bhsea.org.uk
URL:https://www.bhsea.org.uk/events/health-iso-45003
SUMMARY:Health - ISO 45003
LOCATION:Walsall FC WS1 4SA
STATUS:CONFIRMED
DESCRIPTION:ISO 45003 and Suicide Prevention
DTSTAMP:20260422T121518
DTSTART:20261109T124500
DTEND:20261109T153000
ORGANIZER;CN='BHSEA':mailto:secretary@bhsea.org.uk
END:VEVENT
END:VCALENDAR