BEGIN:VCALENDAR
VERSION:2.0
CALSCALE:GREGORIAN
PRODID:-//https://www.bhsea.org.uk//BHSEA
METHOD:REQUEST
BEGIN:VTIMEZONE
TZID:Europe/London
LAST-MODIFIED:20201011T015911Z
TZURL:http://tzurl.org/zoneinfo-outlook/Europe/London
X-LIC-LOCATION:Europe/London
BEGIN:DAYLIGHT
TZNAME:BST
TZOFFSETFROM:+0000
TZOFFSETTO:+0100
DTSTART:19700329T010000
RRULE:FREQ=YEARLY;BYMONTH=3;BYDAY=-1SU
END:DAYLIGHT
BEGIN:STANDARD
TZNAME:GMT
TZOFFSETFROM:+0100
TZOFFSETTO:+0000
DTSTART:19701025T020000
RRULE:FREQ=YEARLY;BYMONTH=10;BYDAY=-1SU
END:STANDARD
END:VTIMEZONE
BEGIN:VEVENT
UID:13acee2be2a6e55fa2d5c116c8336431@bhsea.org.uk
URL:https://www.bhsea.org.uk/events/construction-matters-oct-building-the-future
SUMMARY:Construction Matters Oct - Building the Future
LOCATION:Walsall FC WS1 4SA
STATUS:CONFIRMED
DESCRIPTION:Building the Future &ndash; Educate not Regulate
Panel discussion and Q&amp;A on Building Safety Regulations
Speakers: Louise Mansfield, Peter Bowers and others TBC
DTSTAMP:20260422T122751
DTSTART:20261012T124500
DTEND:20261012T153000
ORGANIZER;CN='BHSEA':mailto:secretary@bhsea.org.uk
END:VEVENT
END:VCALENDAR