BEGIN:VCALENDAR
VERSION:2.0
CALSCALE:GREGORIAN
PRODID:-//https://www.bhsea.org.uk//BHSEA
METHOD:REQUEST
BEGIN:VTIMEZONE
TZID:Europe/London
LAST-MODIFIED:20201011T015911Z
TZURL:http://tzurl.org/zoneinfo-outlook/Europe/London
X-LIC-LOCATION:Europe/London
BEGIN:DAYLIGHT
TZNAME:BST
TZOFFSETFROM:+0000
TZOFFSETTO:+0100
DTSTART:19700329T010000
RRULE:FREQ=YEARLY;BYMONTH=3;BYDAY=-1SU
END:DAYLIGHT
BEGIN:STANDARD
TZNAME:GMT
TZOFFSETFROM:+0100
TZOFFSETTO:+0000
DTSTART:19701025T020000
RRULE:FREQ=YEARLY;BYMONTH=10;BYDAY=-1SU
END:STANDARD
END:VTIMEZONE
BEGIN:VEVENT
UID:6b9ac18664dc49c40659bdbbe99b5c73@bhsea.org.uk
URL:https://www.bhsea.org.uk/events/september-legal-update
SUMMARY:September Legal Update
LOCATION:Walsall FC WS1 4SA
STATUS:CONFIRMED
DESCRIPTION:Louise Mansfield's Annual Legal Update
DTSTAMP:20260422T122030
DTSTART:20260914T124500
DTEND:20260914T153000
ORGANIZER;CN='BHSEA':mailto:secretary@bhsea.org.uk
END:VEVENT
END:VCALENDAR